BEGIN:VCALENDAR
VERSION:2.0
PRODID:-//Plone.org//NONSGML plone.app.event//EN
X-WR-TIMEZONE:Europe/Brussels
BEGIN:VEVENT
SUMMARY:Hoorzitting transitiemanagement
DTSTART;TZID=CET:20130930T133000
DTEND;TZID=CET:20130930T163000
DTSTAMP:20260425T184832Z
UID:3d988743a9ab4deda9051671f5a78bf9
URL:https://www.minaraad.be/themas/vergroening-van-de-economie/transitiema
 nagement
END:VEVENT
BEGIN:VTIMEZONE
TZID:Europe/Brussels
X-LIC-LOCATION:Europe/Brussels
BEGIN:DAYLIGHT
DTSTART:20130331T030000
TZNAME:CEST
TZOFFSETFROM:+0100
TZOFFSETTO:+0200
END:DAYLIGHT
END:VTIMEZONE
END:VCALENDAR
