BEGIN:VCALENDAR
VERSION:2.0
PRODID:-//Plone.org//NONSGML plone.app.event//EN
X-WR-TIMEZONE:Europe/Brussels
BEGIN:VEVENT
SUMMARY:Prioriteiten Europese Commissie en Raad voor milieu\, energie en k
 limaat in 2015
DTSTART;TZID=CET:20150203T094500
DTEND;TZID=CET:20150203T130000
DTSTAMP:20260424T103637Z
UID:75e00dfeed5c4120a308d76c187c5afa
URL:https://www.minaraad.be/themas/vergroening-van-de-economie/prioriteite
 n-europese-commissie-en-raad-voor-milieu-energie-en-klimaat-in-2015
END:VEVENT
BEGIN:VTIMEZONE
TZID:Europe/Brussels
X-LIC-LOCATION:Europe/Brussels
BEGIN:STANDARD
DTSTART:20141026T020000
TZNAME:CET
TZOFFSETFROM:+0200
TZOFFSETTO:+0100
END:STANDARD
END:VTIMEZONE
END:VCALENDAR
