BEGIN:VCALENDAR
VERSION:2.0
PRODID:-//Plone.org//NONSGML plone.app.event//EN
X-WR-TIMEZONE:Europe/Brussels
BEGIN:VEVENT
SUMMARY:Energie- en milieurealisaties tijdens het Poolse EU-voorzitterscha
 p en prioriteiten van het Deense voorzitterschap
DTSTART;TZID=CET:20120117T093000
DTEND;TZID=CET:20120117T113000
DTSTAMP:20260420T183308Z
UID:16d53925a3b503ef691a91921d2a2f1a
URL:https://www.minaraad.be/themas/vergroening-van-de-economie/energie-en-
 milieurealisaties-tijdens-het-poolse-voorzitterschap-en-prioriteiten-van-h
 et-deense-eu-voorzitterschap
END:VEVENT
BEGIN:VTIMEZONE
TZID:Europe/Brussels
X-LIC-LOCATION:Europe/Brussels
BEGIN:STANDARD
DTSTART:20111030T020000
TZNAME:CET
TZOFFSETFROM:+0200
TZOFFSETTO:+0100
END:STANDARD
END:VTIMEZONE
END:VCALENDAR
