BEGIN:VCALENDAR
VERSION:2.0
PRODID:-//Plone.org//NONSGML plone.app.event//EN
X-WR-TIMEZONE:Europe/Brussels
BEGIN:VEVENT
SUMMARY:Structuur onder de oppervlakte: De toekomst van diepe ondergrondge
 bruik
DTSTART;TZID=Europe/Brussels:20251008T130000
DTEND;TZID=Europe/Brussels:20251008T170000
DTSTAMP:20260420T073924Z
UID:a0f96730e1f647b79a0b732fb7582396
URL:https://www.minaraad.be/themas/materialen/structuur-onder-de-oppervlak
 te-de-toekomst-van-diepe-ondergrondgebruik
END:VEVENT
BEGIN:VTIMEZONE
TZID:Europe/Brussels
X-LIC-LOCATION:Europe/Brussels
BEGIN:DAYLIGHT
DTSTART:20250330T030000
TZNAME:CEST
TZOFFSETFROM:+0100
TZOFFSETTO:+0200
END:DAYLIGHT
END:VTIMEZONE
END:VCALENDAR
