BEGIN:VCALENDAR
VERSION:2.0
PRODID:-//Plone.org//NONSGML plone.app.event//EN
X-WR-TIMEZONE:Europe/Brussels
BEGIN:VEVENT
SUMMARY:Living in a material world: Lessen voor Vlaanderen uit de Global R
 esources Outlook 2024
DTSTART;TZID=Europe/Brussels:20241021T133000
DTEND;TZID=Europe/Brussels:20241021T163000
DTSTAMP:20260421T193131Z
UID:06974397d6de43e9ad53215cc01c019a
URL:https://www.minaraad.be/themas/materialen/global-resources-outlook
END:VEVENT
BEGIN:VTIMEZONE
TZID:Europe/Brussels
X-LIC-LOCATION:Europe/Brussels
BEGIN:DAYLIGHT
DTSTART:20240331T030000
TZNAME:CEST
TZOFFSETFROM:+0100
TZOFFSETTO:+0200
END:DAYLIGHT
END:VTIMEZONE
END:VCALENDAR
