BEGIN:VCALENDAR
VERSION:2.0
PRODID:-//Plone.org//NONSGML plone.app.event//EN
X-WR-TIMEZONE:Europe/Brussels
BEGIN:VEVENT
SUMMARY:Circulair textiel – stitched up
DTSTART;TZID=Europe/Brussels:20260303T090000
DTEND;TZID=Europe/Brussels:20260303T133000
DTSTAMP:20260420T070038Z
UID:b1e1817413624efab6411ad4cbe6b8bc
URL:https://www.minaraad.be/themas/materialen/circulair-textiel-stitched-u
 p
END:VEVENT
BEGIN:VTIMEZONE
TZID:Europe/Brussels
X-LIC-LOCATION:Europe/Brussels
BEGIN:STANDARD
DTSTART:20251026T020000
TZNAME:CET
TZOFFSETFROM:+0200
TZOFFSETTO:+0100
END:STANDARD
END:VTIMEZONE
END:VCALENDAR
