BEGIN:VCALENDAR
VERSION:2.0
PRODID:-//Plone.org//NONSGML plone.app.event//EN
X-WR-TIMEZONE:Europe/Brussels
BEGIN:VEVENT
SUMMARY:Governance aanpak van het klimaatakkoord in Nederland
DTSTART;TZID=CET:20190624T123000
DTEND;TZID=CET:20190624T183000
DTSTAMP:20260419T142707Z
UID:89078b3487654903a02e35309aa0de8a
URL:https://www.minaraad.be/themas/klimaat/governance-aanpak-van-het-klima
 atakkoord-in-nederland
END:VEVENT
BEGIN:VTIMEZONE
TZID:Europe/Brussels
X-LIC-LOCATION:Europe/Brussels
BEGIN:DAYLIGHT
DTSTART:20190331T030000
TZNAME:CEST
TZOFFSETFROM:+0100
TZOFFSETTO:+0200
END:DAYLIGHT
END:VTIMEZONE
END:VCALENDAR
