BEGIN:VCALENDAR
VERSION:2.0
PRODID:-//Plone.org//NONSGML plone.app.event//EN
X-WR-TIMEZONE:Europe/Brussels
BEGIN:VEVENT
SUMMARY:Europese energievoorstellen voor 2030
DTSTART;TZID=CET:20170331T133000
DTEND;TZID=CET:20170331T163000
DTSTAMP:20260419T210815Z
UID:3e1cc3d0b14249cab2d4030252ab8e98
URL:https://www.minaraad.be/themas/klimaat/europese-energievoorstellen-voo
 r-2030
END:VEVENT
BEGIN:VTIMEZONE
TZID:Europe/Brussels
X-LIC-LOCATION:Europe/Brussels
BEGIN:DAYLIGHT
DTSTART:20170326T030000
TZNAME:CEST
TZOFFSETFROM:+0100
TZOFFSETTO:+0200
END:DAYLIGHT
END:VTIMEZONE
END:VCALENDAR
