BEGIN:VCALENDAR
VERSION:2.0
PRODID:-//Plone.org//NONSGML plone.app.event//EN
X-WR-TIMEZONE:Europe/Brussels
BEGIN:VEVENT
SUMMARY:Energiebeleidsovereenkomsten: na de evaluatie\, welke beleidskeuze
 s?
DTSTART;TZID=Europe/Brussels:20260512T150000
DTEND;TZID=Europe/Brussels:20260512T170000
DTSTAMP:20260421T134625Z
UID:48d0439564c14ac192bbc5a27e92d3e5
URL:https://www.minaraad.be/themas/klimaat/energiebeleidsovereenkomsten-na
 -de-evaluatie-welke-beleidskeuzes
END:VEVENT
BEGIN:VTIMEZONE
TZID:Europe/Brussels
X-LIC-LOCATION:Europe/Brussels
BEGIN:DAYLIGHT
DTSTART:20260329T030000
TZNAME:CEST
TZOFFSETFROM:+0100
TZOFFSETTO:+0200
END:DAYLIGHT
END:VTIMEZONE
END:VCALENDAR
