BEGIN:VCALENDAR
VERSION:2.0
PRODID:-//Plone.org//NONSGML plone.app.event//EN
X-WR-TIMEZONE:Europe/Brussels
BEGIN:VEVENT
SUMMARY:Boekvoorstelling  “Gebiedsgerichte afstemming van hernieuwbare e
 nergie”
DTSTART;TZID=CET:20211015T110000
DTEND;TZID=CET:20211015T123000
DTSTAMP:20260425T214806Z
UID:345481626e8a43beba4b2165bb564949
URL:https://www.minaraad.be/themas/klimaat/boekvoorstelling-201cgebiedsger
 ichte-afstemming-van-hernieuwbare-energie201d
END:VEVENT
BEGIN:VTIMEZONE
TZID:Europe/Brussels
X-LIC-LOCATION:Europe/Brussels
BEGIN:DAYLIGHT
DTSTART:20210328T030000
TZNAME:CEST
TZOFFSETFROM:+0100
TZOFFSETTO:+0200
END:DAYLIGHT
END:VTIMEZONE
END:VCALENDAR
