BEGIN:VCALENDAR
VERSION:2.0
PRODID:-//Plone.org//NONSGML plone.app.event//EN
X-WR-TIMEZONE:Europe/Brussels
BEGIN:VEVENT
SUMMARY:Adaptatie: zowel infrastructuur als beleidscultuur - Colloquium te
 r gelegenheid van 30 jaar Minaraad
DTSTART;TZID=CET:20211216T100000
DTEND;TZID=CET:20211216T120000
DTSTAMP:20260425T170517Z
UID:adf1184fdd1646a4ac00180baf12935e
URL:https://www.minaraad.be/themas/hinder/viering-30-jaar-minaraad%20-%20A
 daptatiebeleid
END:VEVENT
BEGIN:VTIMEZONE
TZID:Europe/Brussels
X-LIC-LOCATION:Europe/Brussels
BEGIN:STANDARD
DTSTART:20211031T020000
TZNAME:CET
TZOFFSETFROM:+0200
TZOFFSETTO:+0100
END:STANDARD
END:VTIMEZONE
END:VCALENDAR
