BEGIN:VCALENDAR
VERSION:2.0
PRODID:-//Plone.org//NONSGML plone.app.event//EN
X-WR-TIMEZONE:Europe/Brussels
BEGIN:VEVENT
SUMMARY:Webinar PFAS
DTSTART;TZID=CET:20201016T130000
DTEND;TZID=CET:20201016T160000
DTSTAMP:20260422T203037Z
UID:a13ac128b716447bab642142f9160cd5
URL:https://www.minaraad.be/themas/hinder/infomoment-pfas-1
END:VEVENT
BEGIN:VTIMEZONE
TZID:Europe/Brussels
X-LIC-LOCATION:Europe/Brussels
BEGIN:DAYLIGHT
DTSTART:20200329T030000
TZNAME:CEST
TZOFFSETFROM:+0100
TZOFFSETTO:+0200
END:DAYLIGHT
END:VTIMEZONE
END:VCALENDAR
